BEGIN:VCALENDAR
VERSION:2.0
PRODID:-//thetrainingplace.eu - ECPv5.7.0//NONSGML v1.0//EN
CALSCALE:GREGORIAN
METHOD:PUBLISH
X-WR-CALNAME:thetrainingplace.eu
X-ORIGINAL-URL:https://thetrainingplace.eu
X-WR-CALDESC:Events for thetrainingplace.eu
BEGIN:VTIMEZONE
TZID:Europe/Brussels
BEGIN:DAYLIGHT
TZOFFSETFROM:+0100
TZOFFSETTO:+0200
TZNAME:CEST
DTSTART:20250330T010000
END:DAYLIGHT
BEGIN:STANDARD
TZOFFSETFROM:+0200
TZOFFSETTO:+0100
TZNAME:CET
DTSTART:20251026T010000
END:STANDARD
END:VTIMEZONE
BEGIN:VEVENT
DTSTART;VALUE=DATE:20250203
DTEND;VALUE=DATE:20250207
DTSTAMP:20260421T160032
CREATED:20240909T094424Z
LAST-MODIFIED:20240909T094424Z
UID:8666-1738540800-1738886399@thetrainingplace.eu
SUMMARY:Risk Assessment of Microorganisms used as Pesticides and Biocides – Session 6
DESCRIPTION:Description:\nThe 6th training session of the Better Training for Safer Food project regarding “Risk Assessment of Microorganisms used as Pesticides and Biocides” will be held from the 03/02/25 to the 06/02/25. Participants coming from the EU member states\, candidate countries and EEA/EFTA countries will be expected to attend the training session. \nThis session will take place in Porto\, Portugal. \nObjectives: \nThe objective of the training is to support development of expertise as regards the risk assessment methodologies for microorganisms to be used in plant protection products and biocides. This shall also enhance competences in evaluating dossier admissibility/validity and risk assessment\, and will also aim to promote\, as much as possible\, harmonisation of the procedures of evaluation\, and authorisation of such microorganisms within the EU. \nProgramme:\nThe training programme will be based on the best methodological mix available. Theoretical lectures and presentations will be combined with case studies\, practical exercises and group discussion. \nThe training will be held in English and implemented over a period of 4 days. The daily work schedule will be approximately from 09:00 to 17:30\, including two coffee breaks per day. \nDeadline of registration: 13th of December 2024 \nSelection procedure:\n• Relevant technical background: participants should preferably have the necessary knowledge in the relevant legislation and in risk assessments and decision making of active substances and plant protection and/or biocidal products in the context of EU regulations;\n• Relevancy to daily work: participants should\, as a priority\, be staff of the competent authorities and be involved in risk assessments and decision making of active substances and plant protection and/or biocidal products in the context of EU regulations;\n• Sufficient language skills: in order to ensure the transfer of knowledge and opportunities to exchange views\, participants should master the language of the training session for which they apply;\n• Ability to share their experience: priority will be given to participants whose position will allow them to share the outputs of the training sessions with colleagues. \nTraining:\nLocation – Porto\, Portugal. \n  \nFind Your NCP and Apply
URL:https://thetrainingplace.eu/event/risk-assessment-of-microorganisms-used-as-pesticides-and-biocides-session-6/
LOCATION:Porto\, Portugal
CATEGORIES:Risk Assessment of Microorganisms used as Pesticides or Biocides
ATTACH;FMTTYPE=image/jpeg:https://thetrainingplace.eu/wp-content/uploads/2021/11/wheats-6375839_1920.jpg
END:VEVENT
END:VCALENDAR